BEGIN:VCALENDAR
VERSION:2.0
PRODID:-//hacksw/handcal//NONSGML v1.0//EN
BEGIN:VEVENT
UID:39c60c4093c5e97e01d32a0611b439d8
DTSTAMP:20260421T034221Z

DTSTART:20240727T130000
DTEND:20240727T130000
SUMMARY:Rotterdam Zomercarnaval: "Straat Parade"
DESCRIPTION:De Zomercarnaval straatparade is een enorm spektakel, waar je gewoon niet omheen kan. Heel Rotterdam is afgesloten zodat deze saaie weg omgetoverd kan worden in een tropische dans-route. Iedereen laat zichzelf van zijn of haar beste kant zien. Alle leeftijden van jong tot oud, man of vrouw het maakt niet uit, iedereen maakt er een groot feest van met veel tropische muziek, swingende dans en prachtige zang. Er is dan ook veel aandacht besteed aan de schitterende kostuums met hoofdtooien, enorme road- en of bodypieces, overal is aan gedacht en alles is uitgewerkt tot in detail voor dit unieke event.\nIedere groep heeft een eigen thema, dit thema is overal in terug te zien. Ook de Music floats zijn afgestemd op het bijpassende thema. Door het gebruik van veel kleur en ‘bling bling’ zijn we helemaal in de Caraïbische sfeer van Zomercarnaval. Bovenop de praalwagen staan meestal de King en Queen Zomercarnaval. Zij stralen en zullen als echte royals iedereen toewuiven en laten zien dat ze koninklijk waardig is. De Nederlandse carnavalsgroepen zorgen elk jaar voor een spetterende optocht/belevenis. Ruim 2.500 dansers en danseressen, 25 carnavalsgroepen, 25 muziekgroepen en Dj’s zetten de 5 km lange route in binnenstad van Rotterdam op z’n kop. Door deze geweldige straatparade wordt het een swingende party voor iedereen. Door de prachtige kostuums, geweldige music floats en overweldigende muziek zie je de voetjes van de vloer gaan. Maar het is dan ook onmogelijk om stil te blijven staan op dit event!

X-ALT-DESC;FMTTYPE=text/html:<!DOCTYPE HTML PUBLIC "-//W3C//DTD HTML 3.2//EN">\n<HTML>\n<HEAD>\n<META NAME="Generator" CONTENT="MS Exchange Server version 08.00.0681.000">\n<TITLE></TITLE>\n</HEAD>\n<BODY>\n<!-- Converted from text/rtf format -->\n\n<p>De Zomercarnaval straatparade is een enorm spektakel, waar je gewoon niet omheen kan. Heel Rotterdam is afgesloten zodat deze saaie weg omgetoverd kan worden in een tropische dans-route. Iedereen laat zichzelf van zijn of haar beste kant zien. Alle leeftijden van jong tot oud, man of vrouw het maakt niet uit, iedereen maakt er een groot feest van met veel tropische muziek, swingende dans en prachtige zang. Er is dan ook veel aandacht besteed aan de schitterende kostuums met hoofdtooien, enorme road- en of bodypieces, overal is aan gedacht en alles is uitgewerkt tot in detail voor dit unieke event.</p><br /><p>Iedere groep heeft een eigen thema, dit thema is overal in terug te zien. Ook de Music floats zijn afgestemd op het bijpassende thema. Door het gebruik van veel kleur en ‘bling bling’ zijn we helemaal in de Caraïbische sfeer van Zomercarnaval. Bovenop de praalwagen staan meestal de <strong><a href="https://www.zomercarnaval.org/evenementen/royalty-election">King en Queen Zomercarnaval</a></strong>. Zij stralen en zullen als echte royals iedereen toewuiven en laten zien dat ze koninklijk waardig is. De Nederlandse carnavalsgroepen zorgen elk jaar voor een spetterende optocht/belevenis. Ruim 2.500 dansers en danseressen, 25 carnavalsgroepen, 25 muziekgroepen en Dj’s zetten de 5 km lange route in binnenstad van Rotterdam op z’n kop. Door deze geweldige straatparade wordt het een swingende party voor iedereen. Door de prachtige kostuums, geweldige music floats en overweldigende muziek zie je de voetjes van de vloer gaan. Maar het is dan ook onmogelijk om stil te blijven staan op dit event!</p>\n\n</BODY>\n</HTML>

LOCATION:Rotterdam, Netherlands
END:VEVENT

END:VCALENDAR
