BEGIN:VCALENDAR
VERSION:2.0
PRODID:-//hacksw/handcal//NONSGML v1.0//EN
BEGIN:VEVENT
UID:564f2cc3d4260c48383ed5df688ffbd7
DTSTAMP:20260421T122511Z

DTSTART:20250830T103000
DTEND:20250830T133000
SUMMARY:Riddim In The Morning - 30.08.2025
DESCRIPTION:Riddim In The Morning

X-ALT-DESC;FMTTYPE=text/html:<!DOCTYPE HTML PUBLIC "-//W3C//DTD HTML 3.2//EN">\n<HTML>\n<HEAD>\n<META NAME="Generator" CONTENT="MS Exchange Server version 08.00.0681.000">\n<TITLE></TITLE>\n</HEAD>\n<BODY>\n<!-- Converted from text/rtf format -->\n\n<p>Riddim In The Morning</p>\n\n</BODY>\n</HTML>

LOCATION:Netherlands
END:VEVENT

END:VCALENDAR
