BEGIN:VCALENDAR
VERSION:2.0
PRODID:-//hacksw/handcal//NONSGML v1.0//EN
BEGIN:VEVENT
UID:3a9d9a0e5b1773034ea0de4280d2288e
DTSTAMP:20260421T033544Z

DTSTART:20220827T000000
DTEND:20220829T235959
SUMMARY:Nottinghill Carnival
DESCRIPTION:One of the world’s biggest celebrations, Notting Hill Carnival returns to the streets of West London in 2022 for the first time since 2019. For two years, festivities have been strictly virtual, but now it’s time to be back on the road to see the colourful world of Mas, Soca, Calypso, sound systems and so much more in splendid real life.\nVisit official website for more info

X-ALT-DESC;FMTTYPE=text/html:<!DOCTYPE HTML PUBLIC "-//W3C//DTD HTML 3.2//EN">\n<HTML>\n<HEAD>\n<META NAME="Generator" CONTENT="MS Exchange Server version 08.00.0681.000">\n<TITLE></TITLE>\n</HEAD>\n<BODY>\n<!-- Converted from text/rtf format -->\n\n<p>One of the world’s biggest celebrations, Notting Hill Carnival returns to the streets of West London in 2022 for the first time since 2019. For two years, festivities have been strictly virtual, but now it’s time to be back on the road to see the colourful world of Mas, Soca, Calypso, sound systems and so much more in splendid real life.</p><br /><p>Visit official website for more info</p>\n\n</BODY>\n</HTML>

LOCATION:Londen W10, Verenigd Koninkrijk
END:VEVENT

END:VCALENDAR
