BEGIN:VCALENDAR
VERSION:2.0
PRODID:-//hacksw/handcal//NONSGML v1.0//EN
BEGIN:VEVENT
UID:ab46d7b0c301587ac1e2b29849ba8b82
DTSTAMP:20260422T183025Z

DTSTART:20251122T103000
DTEND:20251122T133000
SUMMARY:Riddim In The Morning - 22.11.2025
DESCRIPTION:Riddim In The Morning

X-ALT-DESC;FMTTYPE=text/html:<!DOCTYPE HTML PUBLIC "-//W3C//DTD HTML 3.2//EN">\n<HTML>\n<HEAD>\n<META NAME="Generator" CONTENT="MS Exchange Server version 08.00.0681.000">\n<TITLE></TITLE>\n</HEAD>\n<BODY>\n<!-- Converted from text/rtf format -->\n\n<p>Riddim In The Morning</p>\n\n</BODY>\n</HTML>

LOCATION:Netherlands
END:VEVENT

END:VCALENDAR
